





BEGIN:VCALENDAR
VERSION:2.0
PRODID:-//Herne Hill Community SE24 - ECPv6.11.2.1//NONSGML v1.0//EN
CALSCALE:GREGORIAN
METHOD:PUBLISH
X-WR-CALNAME:Herne Hill Community SE24
X-ORIGINAL-URL:https://www.hernehill.org.uk
X-WR-CALDESC:Events for Herne Hill Community SE24
REFRESH-INTERVAL;VALUE=DURATION:PT1H
X-Robots-Tag:noindex
X-PUBLISHED-TTL:PT1H
BEGIN:VTIMEZONE
TZID:Europe/London
BEGIN:DAYLIGHT
TZOFFSETFROM:+0000
TZOFFSETTO:+0100
TZNAME:BST
DTSTART:20230326T010000
END:DAYLIGHT
BEGIN:STANDARD
TZOFFSETFROM:+0100
TZOFFSETTO:+0000
TZNAME:GMT
DTSTART:20231029T010000
END:STANDARD
BEGIN:DAYLIGHT
TZOFFSETFROM:+0000
TZOFFSETTO:+0100
TZNAME:BST
DTSTART:20240331T010000
END:DAYLIGHT
BEGIN:STANDARD
TZOFFSETFROM:+0100
TZOFFSETTO:+0000
TZNAME:GMT
DTSTART:20241027T010000
END:STANDARD
BEGIN:DAYLIGHT
TZOFFSETFROM:+0000
TZOFFSETTO:+0100
TZNAME:BST
DTSTART:20250330T010000
END:DAYLIGHT
BEGIN:STANDARD
TZOFFSETFROM:+0100
TZOFFSETTO:+0000
TZNAME:GMT
DTSTART:20251026T010000
END:STANDARD
END:VTIMEZONE
BEGIN:VEVENT
DTSTART;TZID=Europe/London:20251017T193000
DTEND;TZID=Europe/London:20251017T213000
DTSTAMP:20260420T150935
CREATED:20251013T155607Z
LAST-MODIFIED:20251013T155607Z
UID:3695-1760729400-1760736600@www.hernehill.org.uk
SUMMARY:Gong Bath Fundraiser - Sound Healing and Meditation
DESCRIPTION:On this immersive sound journey we’ll travel through transcendental landscapes\, with the help of meditation\, visualisation and music. \nThe sounds of the gong\, singing bowls and autoharps (to name just a few) will ease you into a state of profound relaxation\, where you might explore images\, colours and memories. \nAs you listen with your whole being\, all the creases and frayed ends are smoothed\, so that you leave feeling blissful\, and more in touch with your depths. Suitable for those new to meditation\, and experienced practitioners alike.
URL:https://www.hernehill.org.uk/event/gong-bath-fundraiser-sound-healing-and-meditation/
LOCATION:21 Effra Parade\, SW2 1PX\, United Kingdom
CATEGORIES:Class,Health, Wellbeing & Sport,Meeting New People
ORGANIZER;CN="Brixton Buddhist Community":MAILTO:info@brixtonbuddhistmeditation.org
END:VEVENT
BEGIN:VEVENT
DTSTART;TZID=Europe/London:20231214T100000
DTEND;TZID=Europe/London:20231214T113000
DTSTAMP:20260420T150935
CREATED:20230804T131103Z
LAST-MODIFIED:20230904T131116Z
UID:2229-1702548000-1702553400@www.hernehill.org.uk
SUMMARY:Singing Mamas - South London
DESCRIPTION:Singing Mamas is all about taking care of the women who spend so much time being busy taking care of others. It’s all about making YOU feel good. There are no auditions\, no solos\, no reading music. Just simple songs taught by ear\, with the aim to reduce stress\, connect with others\, build community\, and improve wellbeing. Oh\, and there’s always tea and cake\, too.\n\nNo prior musical experience is needed – we sing for connection\, not for perfection! Mums\, grandmas\, bumps\, babies\, older children\, and women without kids are all welcome.\n\n \nWe meet at the Coffee Lounge in Herne Hill Baptist Church on Half Moon Lane every Thursday from 10-11.30am. If for some reason you can’t make that session\, we also have groups on Tuesdays in Streatham Vale in the Vestry room adjoining the Holy Redeemer Church\, also at 10-1130am.\n\nYou can book a taster session at www.georgialadbury.com/singing – or if you’re 36+ weeks pregnant\, sessions are free.\n\nWe strongly believe that everyone should have access to the benefits of singing\, so please get in touch if you feel there are barriers to joining the group (inc financial) so we can help find a solution.
URL:https://www.hernehill.org.uk/event/singing-mamas-south-london-13/
LOCATION:Herne Hill Baptist Church\, Half Moon Lane\, London\, United Kingdom
CATEGORIES:Children & Families,Choir,Health, Wellbeing & Sport,Meeting New People,Music
ORGANIZER;CN="Singing Mamas South London":MAILTO:singingmamas.southlondon@gmail.com
END:VEVENT
BEGIN:VEVENT
DTSTART;TZID=Europe/London:20231207T100000
DTEND;TZID=Europe/London:20231207T113000
DTSTAMP:20260420T150935
CREATED:20230804T130839Z
LAST-MODIFIED:20230904T130857Z
UID:2227-1701943200-1701948600@www.hernehill.org.uk
SUMMARY:Singing Mamas - South London
DESCRIPTION:Singing Mamas is all about taking care of the women who spend so much time being busy taking care of others. It’s all about making YOU feel good. There are no auditions\, no solos\, no reading music. Just simple songs taught by ear\, with the aim to reduce stress\, connect with others\, build community\, and improve wellbeing. Oh\, and there’s always tea and cake\, too.\n\nNo prior musical experience is needed – we sing for connection\, not for perfection! Mums\, grandmas\, bumps\, babies\, older children\, and women without kids are all welcome.\n\n \nWe meet at the Coffee Lounge in Herne Hill Baptist Church on Half Moon Lane every Thursday from 10-11.30am. If for some reason you can’t make that session\, we also have groups on Tuesdays in Streatham Vale in the Vestry room adjoining the Holy Redeemer Church\, also at 10-1130am.\n\nYou can book a taster session at www.georgialadbury.com/singing – or if you’re 36+ weeks pregnant\, sessions are free.\n\nWe strongly believe that everyone should have access to the benefits of singing\, so please get in touch if you feel there are barriers to joining the group (inc financial) so we can help find a solution.
URL:https://www.hernehill.org.uk/event/singing-mamas-south-london-12/
LOCATION:Herne Hill Baptist Church\, Half Moon Lane\, London\, United Kingdom
CATEGORIES:Children & Families,Choir,Health, Wellbeing & Sport,Meeting New People,Music
ORGANIZER;CN="Singing Mamas South London":MAILTO:singingmamas.southlondon@gmail.com
END:VEVENT
BEGIN:VEVENT
DTSTART;TZID=Europe/London:20231130T100000
DTEND;TZID=Europe/London:20231130T113000
DTSTAMP:20260420T150935
CREATED:20230804T131203Z
LAST-MODIFIED:20230904T131218Z
UID:2231-1701338400-1701343800@www.hernehill.org.uk
SUMMARY:Singing Mamas - South London
DESCRIPTION:Singing Mamas is all about taking care of the women who spend so much time being busy taking care of others. It’s all about making YOU feel good. There are no auditions\, no solos\, no reading music. Just simple songs taught by ear\, with the aim to reduce stress\, connect with others\, build community\, and improve wellbeing. Oh\, and there’s always tea and cake\, too.\n\nNo prior musical experience is needed – we sing for connection\, not for perfection! Mums\, grandmas\, bumps\, babies\, older children\, and women without kids are all welcome.\n\n \nWe meet at the Coffee Lounge in Herne Hill Baptist Church on Half Moon Lane every Thursday from 10-11.30am. If for some reason you can’t make that session\, we also have groups on Tuesdays in Streatham Vale in the Vestry room adjoining the Holy Redeemer Church\, also at 10-1130am.\n\nYou can book a taster session at www.georgialadbury.com/singing – or if you’re 36+ weeks pregnant\, sessions are free.\n\nWe strongly believe that everyone should have access to the benefits of singing\, so please get in touch if you feel there are barriers to joining the group (inc financial) so we can help find a solution.
URL:https://www.hernehill.org.uk/event/singing-mamas-south-london-14/
LOCATION:Herne Hill Baptist Church\, Half Moon Lane\, London\, United Kingdom
CATEGORIES:Children & Families,Choir,Health, Wellbeing & Sport,Meeting New People,Music
ORGANIZER;CN="Singing Mamas South London":MAILTO:singingmamas.southlondon@gmail.com
END:VEVENT
BEGIN:VEVENT
DTSTART;TZID=Europe/London:20231123T100000
DTEND;TZID=Europe/London:20231123T113000
DTSTAMP:20260420T150935
CREATED:20230804T130724Z
LAST-MODIFIED:20230904T130738Z
UID:2225-1700733600-1700739000@www.hernehill.org.uk
SUMMARY:Singing Mamas - South London
DESCRIPTION:Singing Mamas is all about taking care of the women who spend so much time being busy taking care of others. It’s all about making YOU feel good. There are no auditions\, no solos\, no reading music. Just simple songs taught by ear\, with the aim to reduce stress\, connect with others\, build community\, and improve wellbeing. Oh\, and there’s always tea and cake\, too.\n\nNo prior musical experience is needed – we sing for connection\, not for perfection! Mums\, grandmas\, bumps\, babies\, older children\, and women without kids are all welcome.\n\n \nWe meet at the Coffee Lounge in Herne Hill Baptist Church on Half Moon Lane every Thursday from 10-11.30am. If for some reason you can’t make that session\, we also have groups on Tuesdays in Streatham Vale in the Vestry room adjoining the Holy Redeemer Church\, also at 10-1130am.\n\nYou can book a taster session at www.georgialadbury.com/singing – or if you’re 36+ weeks pregnant\, sessions are free.\n\nWe strongly believe that everyone should have access to the benefits of singing\, so please get in touch if you feel there are barriers to joining the group (inc financial) so we can help find a solution.
URL:https://www.hernehill.org.uk/event/singing-mamas-south-london-11/
LOCATION:Herne Hill Baptist Church\, Half Moon Lane\, London\, United Kingdom
CATEGORIES:Children & Families,Choir,Health, Wellbeing & Sport,Meeting New People,Music
ORGANIZER;CN="Singing Mamas South London":MAILTO:singingmamas.southlondon@gmail.com
END:VEVENT
BEGIN:VEVENT
DTSTART;TZID=Europe/London:20231116T100000
DTEND;TZID=Europe/London:20231116T113000
DTSTAMP:20260420T150935
CREATED:20230804T130344Z
LAST-MODIFIED:20230904T130358Z
UID:2223-1700128800-1700134200@www.hernehill.org.uk
SUMMARY:Singing Mamas - South London
DESCRIPTION:Singing Mamas is all about taking care of the women who spend so much time being busy taking care of others. It’s all about making YOU feel good. There are no auditions\, no solos\, no reading music. Just simple songs taught by ear\, with the aim to reduce stress\, connect with others\, build community\, and improve wellbeing. Oh\, and there’s always tea and cake\, too.\n\nNo prior musical experience is needed – we sing for connection\, not for perfection! Mums\, grandmas\, bumps\, babies\, older children\, and women without kids are all welcome.\n\n \nWe meet at the Coffee Lounge in Herne Hill Baptist Church on Half Moon Lane every Thursday from 10-11.30am. If for some reason you can’t make that session\, we also have groups on Tuesdays in Streatham Vale in the Vestry room adjoining the Holy Redeemer Church\, also at 10-1130am.\n\nYou can book a taster session at www.georgialadbury.com/singing – or if you’re 36+ weeks pregnant\, sessions are free.\n\nWe strongly believe that everyone should have access to the benefits of singing\, so please get in touch if you feel there are barriers to joining the group (inc financial) so we can help find a solution.
URL:https://www.hernehill.org.uk/event/singing-mamas-south-london-10/
LOCATION:Herne Hill Baptist Church\, Half Moon Lane\, London\, United Kingdom
CATEGORIES:Children & Families,Choir,Health, Wellbeing & Sport,Meeting New People,Music
ORGANIZER;CN="Singing Mamas South London":MAILTO:singingmamas.southlondon@gmail.com
END:VEVENT
BEGIN:VEVENT
DTSTART;TZID=Europe/London:20231109T100000
DTEND;TZID=Europe/London:20231109T113000
DTSTAMP:20260420T150935
CREATED:20230804T130319Z
LAST-MODIFIED:20230904T130331Z
UID:2221-1699524000-1699529400@www.hernehill.org.uk
SUMMARY:Singing Mamas - South London
DESCRIPTION:Singing Mamas is all about taking care of the women who spend so much time being busy taking care of others. It’s all about making YOU feel good. There are no auditions\, no solos\, no reading music. Just simple songs taught by ear\, with the aim to reduce stress\, connect with others\, build community\, and improve wellbeing. Oh\, and there’s always tea and cake\, too.\n\nNo prior musical experience is needed – we sing for connection\, not for perfection! Mums\, grandmas\, bumps\, babies\, older children\, and women without kids are all welcome.\n\n \nWe meet at the Coffee Lounge in Herne Hill Baptist Church on Half Moon Lane every Thursday from 10-11.30am. If for some reason you can’t make that session\, we also have groups on Tuesdays in Streatham Vale in the Vestry room adjoining the Holy Redeemer Church\, also at 10-1130am.\n\nYou can book a taster session at www.georgialadbury.com/singing – or if you’re 36+ weeks pregnant\, sessions are free.\n\nWe strongly believe that everyone should have access to the benefits of singing\, so please get in touch if you feel there are barriers to joining the group (inc financial) so we can help find a solution.
URL:https://www.hernehill.org.uk/event/singing-mamas-south-london-9/
LOCATION:Herne Hill Baptist Church\, Half Moon Lane\, London\, United Kingdom
CATEGORIES:Children & Families,Choir,Health, Wellbeing & Sport,Meeting New People,Music
ORGANIZER;CN="Singing Mamas South London":MAILTO:singingmamas.southlondon@gmail.com
END:VEVENT
BEGIN:VEVENT
DTSTART;TZID=Europe/London:20231019T100000
DTEND;TZID=Europe/London:20231019T113000
DTSTAMP:20260420T150935
CREATED:20230804T130120Z
LAST-MODIFIED:20230904T130132Z
UID:2217-1697709600-1697715000@www.hernehill.org.uk
SUMMARY:Singing Mamas - South London
DESCRIPTION:Singing Mamas is all about taking care of the women who spend so much time being busy taking care of others. It’s all about making YOU feel good. There are no auditions\, no solos\, no reading music. Just simple songs taught by ear\, with the aim to reduce stress\, connect with others\, build community\, and improve wellbeing. Oh\, and there’s always tea and cake\, too.\n\nNo prior musical experience is needed – we sing for connection\, not for perfection! Mums\, grandmas\, bumps\, babies\, older children\, and women without kids are all welcome.\n\n \nWe meet at the Coffee Lounge in Herne Hill Baptist Church on Half Moon Lane every Thursday from 10-11.30am. If for some reason you can’t make that session\, we also have groups on Tuesdays in Streatham Vale in the Vestry room adjoining the Holy Redeemer Church\, also at 10-1130am.\n\nYou can book a taster session at www.georgialadbury.com/singing – or if you’re 36+ weeks pregnant\, sessions are free.\n\nWe strongly believe that everyone should have access to the benefits of singing\, so please get in touch if you feel there are barriers to joining the group (inc financial) so we can help find a solution.
URL:https://www.hernehill.org.uk/event/singing-mamas-south-london-7/
LOCATION:Herne Hill Baptist Church\, Half Moon Lane\, London\, United Kingdom
CATEGORIES:Children & Families,Choir,Health, Wellbeing & Sport,Meeting New People,Music
ORGANIZER;CN="Singing Mamas South London":MAILTO:singingmamas.southlondon@gmail.com
END:VEVENT
BEGIN:VEVENT
DTSTART;TZID=Europe/London:20230928T100000
DTEND;TZID=Europe/London:20230928T113000
DTSTAMP:20260420T150935
CREATED:20230804T125854Z
LAST-MODIFIED:20230904T125913Z
UID:2211-1695895200-1695900600@www.hernehill.org.uk
SUMMARY:Singing Mamas - South London
DESCRIPTION:Singing Mamas is all about taking care of the women who spend so much time being busy taking care of others. It’s all about making YOU feel good. There are no auditions\, no solos\, no reading music. Just simple songs taught by ear\, with the aim to reduce stress\, connect with others\, build community\, and improve wellbeing. Oh\, and there’s always tea and cake\, too.\n\nNo prior musical experience is needed – we sing for connection\, not for perfection! Mums\, grandmas\, bumps\, babies\, older children\, and women without kids are all welcome.\n\n \nWe meet at the Coffee Lounge in Herne Hill Baptist Church on Half Moon Lane every Thursday from 10-11.30am. If for some reason you can’t make that session\, we also have groups on Tuesdays in Streatham Vale in the Vestry room adjoining the Holy Redeemer Church\, also at 10-1130am.\n\nYou can book a taster session at www.georgialadbury.com/singing – or if you’re 36+ weeks pregnant\, sessions are free.\n\nWe strongly believe that everyone should have access to the benefits of singing\, so please get in touch if you feel there are barriers to joining the group (inc financial) so we can help find a solution.
URL:https://www.hernehill.org.uk/event/singing-mamas-south-london-4/
LOCATION:Herne Hill Baptist Church\, Half Moon Lane\, London\, United Kingdom
CATEGORIES:Children & Families,Choir,Health, Wellbeing & Sport,Meeting New People,Music
ORGANIZER;CN="Singing Mamas South London":MAILTO:singingmamas.southlondon@gmail.com
END:VEVENT
END:VCALENDAR