





BEGIN:VCALENDAR
VERSION:2.0
PRODID:-//Herne Hill Community SE24 - ECPv6.11.2.1//NONSGML v1.0//EN
CALSCALE:GREGORIAN
METHOD:PUBLISH
X-ORIGINAL-URL:https://www.hernehill.org.uk
X-WR-CALDESC:Events for Herne Hill Community SE24
REFRESH-INTERVAL;VALUE=DURATION:PT1H
X-Robots-Tag:noindex
X-PUBLISHED-TTL:PT1H
BEGIN:VTIMEZONE
TZID:Europe/London
BEGIN:DAYLIGHT
TZOFFSETFROM:+0000
TZOFFSETTO:+0100
TZNAME:BST
DTSTART:20230326T010000
END:DAYLIGHT
BEGIN:STANDARD
TZOFFSETFROM:+0100
TZOFFSETTO:+0000
TZNAME:GMT
DTSTART:20231029T010000
END:STANDARD
BEGIN:DAYLIGHT
TZOFFSETFROM:+0000
TZOFFSETTO:+0100
TZNAME:BST
DTSTART:20240331T010000
END:DAYLIGHT
BEGIN:STANDARD
TZOFFSETFROM:+0100
TZOFFSETTO:+0000
TZNAME:GMT
DTSTART:20241027T010000
END:STANDARD
END:VTIMEZONE
BEGIN:VEVENT
DTSTART;TZID=Europe/London:20240629T133000
DTEND;TZID=Europe/London:20240629T163000
DTSTAMP:20260419T191119
CREATED:20240212T164259Z
LAST-MODIFIED:20240612T141337Z
UID:2498-1719667800-1719678600@www.hernehill.org.uk
SUMMARY:Being Mindful in Nature: A Nature-based Meditation Workshop
DESCRIPTION:Take a break from the busy London life and join us in the gardens to calm you mind and appreciate the natural world. \nMany of us struggle with cultivating or maintaining a mindfulness practice. It is\, in fact\, easier and more natural to practice mindfulness in nature. Nature is a wonderful teacher\, helping us more intuitively tap into feelings of peace\, joy\, and to be more present with the world around us. \nWe also know from recent studies that spending time in nature for even 10 minutes a day has profound impacts on our physiological and emotional wellbeing. So why not start here\, with our wonderful gardens (and Deepti) as your guide! \nWho is this workshop for? \nEveryone! Whether you are new to meditation and mindfulness or a practitioner who wants to deepen their practice. If you love nature you’ll love this workshop. \nThe workshop will be led by Deepti Sastry \nTickets are Pay What You Can (recommended price £35) \nBOOK HERE
URL:https://www.hernehill.org.uk/event/being-mindful-in-nature-a-nature-based-meditation-workshop/
LOCATION:Brockwell Park Community Greenhouses\, Brockwell Park\, Herne Hill\, London\, SE24 OPA\, United Kingdom
CATEGORIES:Environment & Nature,Health, Wellbeing & Sport
ATTACH;FMTTYPE=image/jpeg:https://www.hernehill.org.uk/wp-content/uploads/2024/02/BPCG-photo-credit-Steph-Prior.jpg
END:VEVENT
BEGIN:VEVENT
DTSTART;TZID=Europe/London:20240402T110000
DTEND;TZID=Europe/London:20240408T150000
DTSTAMP:20260419T191119
CREATED:20240320T104843Z
LAST-MODIFIED:20240320T104843Z
UID:2549-1712055600-1712588400@www.hernehill.org.uk
SUMMARY:Kids Easter Workshops - Bees\, Bugs and Birds!
DESCRIPTION:We have a range of workshops happening at Brockwell Park Community Greenhouses over Easter for kids to attend with a parent / carer.  As the air gets warmer and the days get longer\, both plants and animals spring to life creating a flurry of activity in the garden.  Its an exciting time of year.  Come to the garden to explore these spring changes. \nTue 2nd Apr |  Bread Creatures for 4-6 year olds – hunt for herbs\, kneed some dough and shape your own bread creatures as a tasty snack. \nWed 3rd Apr | Brockwell Bird Collage Collective for 7-10 year olds – be inspired by the many birds species that visit the gardens and then create your own unique collage. \nMon 8th Apr | Spring Flower Fun for 4-6 year olds – join Bumble the Busy Bee to explore the wondrous flowers in the garden\, play some games and plant your own sunflower to take home. \nTue 9th Apr | Beastly Bugs for 7-10 year olds – work together to complete a beastly bug scavenger hunt and then create your own beasty sculpture. \nWed 10th Apr | Feathered Friends and Nifty Nests for 4-6 year olds – handle real birds nests\, create your own feathered friend and forage for materials to make them a little nest of their own. \nBook early to ensure you don’t miss out! For more details and to book\, click here
URL:https://www.hernehill.org.uk/event/kids-easter-workshops-bees-bugs-and-birds/
LOCATION:Brockwell Park Community Greenhouses\, Brockwell Park\, Herne Hill\, London\, SE24 OPA\, United Kingdom
CATEGORIES:Arts & Crafts,Children & Families,Education & Schools,Environment & Nature
ATTACH;FMTTYPE=image/jpeg:https://www.hernehill.org.uk/wp-content/uploads/2024/03/Spring-flower-Fun-workshop.jpg
END:VEVENT
BEGIN:VEVENT
DTSTART;TZID=Europe/London:20231106T190000
DTEND;TZID=Europe/London:20231106T220000
DTSTAMP:20260419T191119
CREATED:20231025T215506Z
LAST-MODIFIED:20231025T220206Z
UID:2330-1699297200-1699308000@www.hernehill.org.uk
SUMMARY:Retrofit Revolution - Update!
DESCRIPTION:Join us for an evening of information and networking about retrofitting. A chance to ask the experts or quiz your neighbours on the practicalities of future-proofing where you live or work with heat pumps\, solar energy\, insulation and other carbon-saving innovations. \nThis follow-up to our Retrofit Revolution events that took place earlier in the year\, will be held in the “workshop” in the back garden of the Half Moon pub\, Half Moon Lane SE24 9HU on Mon 6th November from 7pm. We’d love to have you there! \n \nWe’re inviting a mixture of residents\, experts and council representatives. The evening will start with a short round of updates from guest speakers then it’s a chance for everyone to chat\, ask questions\, network with a drink in hand. You can find out more here: https://www.hernehillforum.org.uk/retrofit-revolution-update/. \nPlease book a free ticket so we have an idea of numbers: https://www.eventbrite.co.uk/e/the-retrofit-revolution-update-tickets-743597639557. \n  \n 
URL:https://www.hernehill.org.uk/event/retrofit-revolution-update/
LOCATION:Half Moon Pub\, 10 Half Moon Lane\, Herne Hil\, London\, SE24 9HU\, United Kingdom
CATEGORIES:Environment & Nature,Government & Politics,Health, Wellbeing & Sport,Networking
ATTACH;FMTTYPE=image/jpeg:https://www.hernehill.org.uk/wp-content/uploads/2023/10/retrofit_update_square.jpg
ORGANIZER;CN="Herne Hill Forum":MAILTO:info@hernehillforum.org.uk
END:VEVENT
END:VCALENDAR