





BEGIN:VCALENDAR
VERSION:2.0
PRODID:-//Herne Hill Community SE24 - ECPv6.11.2.1//NONSGML v1.0//EN
CALSCALE:GREGORIAN
METHOD:PUBLISH
X-ORIGINAL-URL:https://www.hernehill.org.uk
X-WR-CALDESC:Events for Herne Hill Community SE24
REFRESH-INTERVAL;VALUE=DURATION:PT1H
X-Robots-Tag:noindex
X-PUBLISHED-TTL:PT1H
BEGIN:VTIMEZONE
TZID:Europe/London
BEGIN:DAYLIGHT
TZOFFSETFROM:+0000
TZOFFSETTO:+0100
TZNAME:BST
DTSTART:20250330T010000
END:DAYLIGHT
BEGIN:STANDARD
TZOFFSETFROM:+0100
TZOFFSETTO:+0000
TZNAME:GMT
DTSTART:20251026T010000
END:STANDARD
BEGIN:DAYLIGHT
TZOFFSETFROM:+0000
TZOFFSETTO:+0100
TZNAME:BST
DTSTART:20260329T010000
END:DAYLIGHT
BEGIN:STANDARD
TZOFFSETFROM:+0100
TZOFFSETTO:+0000
TZNAME:GMT
DTSTART:20261025T010000
END:STANDARD
END:VTIMEZONE
BEGIN:VEVENT
DTSTART;TZID=Europe/London:20251224T233000
DTEND;TZID=Europe/London:20251225T001500
DTSTAMP:20260420T193118
CREATED:20251218T093033Z
LAST-MODIFIED:20251218T093130Z
UID:3808-1766619000-1766621700@www.hernehill.org.uk
SUMMARY:Christmas Eve Midnight Communion Service
DESCRIPTION:All welcome to join us Christmas Eve at St Saviour’s for Carols\, Communion and celebration! \nDetails of our others services on Christmas Eve and Christmas day are below. \nThere will also be a Christmas service on our YouTube channel if you would prefer to join from home: https://www.youtube.com/channel/UCacBXmpZ2_eCq3hI9uX8sJQ
URL:https://www.hernehill.org.uk/event/christmas-eve-midnight-communion-service-2/
LOCATION:St Saviour’s Church\, Herne Hill road\, London\, SE24 0AY\, St Saviour's Church\, London\, London\, SE24 0AY\, United Kingdom
CATEGORIES:Choir,Choir,Christmas,Christmas,Church Service,Music
ATTACH;FMTTYPE=image/jpeg:https://www.hernehill.org.uk/wp-content/uploads/2024/12/St-Saviours-Christmas.jpg
END:VEVENT
BEGIN:VEVENT
DTSTART;TZID=Europe/London:20251225T103000
DTEND;TZID=Europe/London:20251225T113000
DTSTAMP:20260420T193118
CREATED:20251218T093400Z
LAST-MODIFIED:20251218T094641Z
UID:3810-1766658600-1766662200@www.hernehill.org.uk
SUMMARY:Christmas Day Communion Service
DESCRIPTION:All welcome to join on Christmas Day 10.30am at St Paul’s Church for Carols\, Communion and celebration! \nDetails of our others services on Christmas Eve and Christmas day are below. \nThere will also be a Christmas service on our YouTube channel if you would prefer to join from home: https://www.youtube.com/channel/UCacBXmpZ2_eCq3hI9uX8sJQ
URL:https://www.hernehill.org.uk/event/christmas-day-communion-service-2/
LOCATION:St Paul’s Church\, Herne Hill\, SE24 9LY\, St. Pauls Church\, Herne Hill\, LONDON\, London\, SE24 9LY\, United Kingdom
CATEGORIES:Children & Families,Choir,Choir,Christmas,Christmas,Church Service,Music
ATTACH;FMTTYPE=image/jpeg:https://www.hernehill.org.uk/wp-content/uploads/2024/12/421733-MrBenGoodyear-C6154ICA6-1066273-D1-x10-1.jpg
END:VEVENT
BEGIN:VEVENT
DTSTART;TZID=Europe/London:20260326T080000
DTEND;TZID=Europe/London:20260326T170000
DTSTAMP:20260420T193118
CREATED:20260326T164734Z
LAST-MODIFIED:20260326T164746Z
UID:3923-1774512000-1774544400@www.hernehill.org.uk
SUMMARY:Holy Week at the Parish of Herne Hill
DESCRIPTION:All are welcome to join us this Holy Week and Easter at St Paul’s and St Saviour’s Herne Hill. \nOn Good Friday the 9.30am service at St Saviour’s will be All Age and Creative and the 11.15am service on Good Friday will be choral and reflective. \nFull details of all our service are on www.hernehillparish.org.uk
URL:https://www.hernehill.org.uk/event/holy-week-at-the-parish-of-herne-hill/
LOCATION:London
CATEGORIES:Children & Families,Choir,Church Service,Music
ATTACH;FMTTYPE=image/jpeg:https://www.hernehill.org.uk/wp-content/uploads/2026/03/Holy-Week.jpg
END:VEVENT
BEGIN:VEVENT
DTSTART;TZID=Europe/London:20260403T093000
DTEND;TZID=Europe/London:20260403T103000
DTSTAMP:20260420T193118
CREATED:20260331T121047Z
LAST-MODIFIED:20260331T121047Z
UID:3943-1775208600-1775212200@www.hernehill.org.uk
SUMMARY:Good Friday Service 9.30am at St Saviour's Herne Hill
DESCRIPTION:All welcome to attend our Good Friday creative service.  \nIt will be all age friendly with crafts\, as well as singing and learning together. \n \n 
URL:https://www.hernehill.org.uk/event/good-friday-service-9-30am-at-st-saviours-herne-hill/
LOCATION:London
CATEGORIES:Arts & Crafts,Children & Families,Church Service,Music
ATTACH;FMTTYPE=image/jpeg:https://www.hernehill.org.uk/wp-content/uploads/2025/04/New-life-New-Hope.jpg
END:VEVENT
BEGIN:VEVENT
DTSTART;TZID=Europe/London:20260403T133000
DTEND;TZID=Europe/London:20260403T150000
DTSTAMP:20260420T193118
CREATED:20260331T121805Z
LAST-MODIFIED:20260331T121805Z
UID:3946-1775223000-1775228400@www.hernehill.org.uk
SUMMARY:Traditional Good Friday Reflective Service 11.15am at St Paul's Herne Hill
DESCRIPTION:All welcome to attend our Good Friday reflective service with choral hymns\, anthems\, silence and Bible readings.
URL:https://www.hernehill.org.uk/event/traditional-good-friday-reflective-service-11-15am-at-st-pauls-herne-hill/
LOCATION:St Paul’s Church\, Herne Hill\, SE24 9LY\, St. Pauls Church\, Herne Hill\, LONDON\, London\, SE24 9LY\, United Kingdom
CATEGORIES:Choir,Choir,Church Service,Music
ATTACH;FMTTYPE=image/jpeg:https://www.hernehill.org.uk/wp-content/uploads/2026/03/IMG_1168-scaled.jpeg
END:VEVENT
BEGIN:VEVENT
DTSTART;TZID=Europe/London:20260405T093000
DTEND;TZID=Europe/London:20260405T103000
DTSTAMP:20260420T193118
CREATED:20260331T122532Z
LAST-MODIFIED:20260331T122532Z
UID:3949-1775381400-1775385000@www.hernehill.org.uk
SUMMARY:Easter Sunday Communion Service 9.30am at St Saviour's Herne Hill
DESCRIPTION:Easter service with communion for all ages \n\nAll ages welcome to celebrate Easter Sunday with us. \nEveryone is invited to bring a flower to add to the cross.
URL:https://www.hernehill.org.uk/event/easter-sunday-communion-service-9-30am-at-st-saviours-herne-hill/
LOCATION:St Saviour’s Church\, Herne Hill road\, London\, SE24 0AY\, St Saviour's Church\, London\, London\, SE24 0AY\, United Kingdom
CATEGORIES:Church Service,Music
ATTACH;FMTTYPE=image/jpeg:https://www.hernehill.org.uk/wp-content/uploads/2026/03/WhatsApp-Image-2026-03-31-at-08.46.31.jpeg
END:VEVENT
BEGIN:VEVENT
DTSTART;TZID=Europe/London:20260405T111500
DTEND;TZID=Europe/London:20260405T123000
DTSTAMP:20260420T193118
CREATED:20260331T123617Z
LAST-MODIFIED:20260331T123617Z
UID:3952-1775387700-1775392200@www.hernehill.org.uk
SUMMARY:Traditional Easter Sunday Service 11.15am at St Paul's Herne Hill
DESCRIPTION:All welcome to attend our Easter Sunday service with choral hymns\, anthems\, and Bible readings. \n \nFeel free to bring a flower to decorate the cross.
URL:https://www.hernehill.org.uk/event/traditional-easter-sunday-service-11-15am-at-st-pauls-herne-hill/
LOCATION:St Paul’s Church\, Herne Hill\, SE24 9LY\, St. Pauls Church\, Herne Hill\, LONDON\, London\, SE24 9LY\, United Kingdom
CATEGORIES:Choir,Choir,Church Service,Music
ATTACH;FMTTYPE=image/png:https://www.hernehill.org.uk/wp-content/uploads/2024/03/St-Pauls-Stained-glass.png
END:VEVENT
END:VCALENDAR