





BEGIN:VCALENDAR
VERSION:2.0
PRODID:-//Herne Hill Community SE24 - ECPv6.11.2.1//NONSGML v1.0//EN
CALSCALE:GREGORIAN
METHOD:PUBLISH
X-ORIGINAL-URL:https://www.hernehill.org.uk
X-WR-CALDESC:Events for Herne Hill Community SE24
REFRESH-INTERVAL;VALUE=DURATION:PT1H
X-Robots-Tag:noindex
X-PUBLISHED-TTL:PT1H
BEGIN:VTIMEZONE
TZID:Europe/London
BEGIN:DAYLIGHT
TZOFFSETFROM:+0000
TZOFFSETTO:+0100
TZNAME:BST
DTSTART:20230326T010000
END:DAYLIGHT
BEGIN:STANDARD
TZOFFSETFROM:+0100
TZOFFSETTO:+0000
TZNAME:GMT
DTSTART:20231029T010000
END:STANDARD
BEGIN:DAYLIGHT
TZOFFSETFROM:+0000
TZOFFSETTO:+0100
TZNAME:BST
DTSTART:20240331T010000
END:DAYLIGHT
BEGIN:STANDARD
TZOFFSETFROM:+0100
TZOFFSETTO:+0000
TZNAME:GMT
DTSTART:20241027T010000
END:STANDARD
BEGIN:DAYLIGHT
TZOFFSETFROM:+0000
TZOFFSETTO:+0100
TZNAME:BST
DTSTART:20250330T010000
END:DAYLIGHT
BEGIN:STANDARD
TZOFFSETFROM:+0100
TZOFFSETTO:+0000
TZNAME:GMT
DTSTART:20251026T010000
END:STANDARD
END:VTIMEZONE
BEGIN:VEVENT
DTSTART;TZID=Europe/London:20251225T103000
DTEND;TZID=Europe/London:20251225T113000
DTSTAMP:20260420T065605
CREATED:20251218T093400Z
LAST-MODIFIED:20251218T094641Z
UID:3810-1766658600-1766662200@www.hernehill.org.uk
SUMMARY:Christmas Day Communion Service
DESCRIPTION:All welcome to join on Christmas Day 10.30am at St Paul’s Church for Carols\, Communion and celebration! \nDetails of our others services on Christmas Eve and Christmas day are below. \nThere will also be a Christmas service on our YouTube channel if you would prefer to join from home: https://www.youtube.com/channel/UCacBXmpZ2_eCq3hI9uX8sJQ
URL:https://www.hernehill.org.uk/event/christmas-day-communion-service-2/
LOCATION:St Paul’s Church\, Herne Hill\, SE24 9LY\, St. Pauls Church\, Herne Hill\, LONDON\, London\, SE24 9LY\, United Kingdom
CATEGORIES:Children & Families,Choir,Choir,Christmas,Christmas,Church Service,Music
ATTACH;FMTTYPE=image/jpeg:https://www.hernehill.org.uk/wp-content/uploads/2024/12/421733-MrBenGoodyear-C6154ICA6-1066273-D1-x10-1.jpg
END:VEVENT
BEGIN:VEVENT
DTSTART;TZID=Europe/London:20251224T233000
DTEND;TZID=Europe/London:20251225T001500
DTSTAMP:20260420T065605
CREATED:20251218T093033Z
LAST-MODIFIED:20251218T093130Z
UID:3808-1766619000-1766621700@www.hernehill.org.uk
SUMMARY:Christmas Eve Midnight Communion Service
DESCRIPTION:All welcome to join us Christmas Eve at St Saviour’s for Carols\, Communion and celebration! \nDetails of our others services on Christmas Eve and Christmas day are below. \nThere will also be a Christmas service on our YouTube channel if you would prefer to join from home: https://www.youtube.com/channel/UCacBXmpZ2_eCq3hI9uX8sJQ
URL:https://www.hernehill.org.uk/event/christmas-eve-midnight-communion-service-2/
LOCATION:St Saviour’s Church\, Herne Hill road\, London\, SE24 0AY\, St Saviour's Church\, London\, London\, SE24 0AY\, United Kingdom
CATEGORIES:Choir,Choir,Christmas,Christmas,Church Service,Music
ATTACH;FMTTYPE=image/jpeg:https://www.hernehill.org.uk/wp-content/uploads/2024/12/St-Saviours-Christmas.jpg
END:VEVENT
BEGIN:VEVENT
DTSTART;TZID=Europe/London:20251224T160000
DTEND;TZID=Europe/London:20251224T170000
DTSTAMP:20260420T065605
CREATED:20251218T092507Z
LAST-MODIFIED:20251218T093431Z
UID:3803-1766592000-1766595600@www.hernehill.org.uk
SUMMARY:Christingle Carol Service
DESCRIPTION:All welcome to join us for an evening of Carol Singing and Christingle Making at St Paul’s Church. \nYou are also welcome at our other Christmas services on the 24th & 25th\, please see below for details: \n \nThere is also a Christmas service on our YouTube channel available on Christmas Day: https://www.youtube.com/channel/UCacBXmpZ2_eCq3hI9uX8sJQ
URL:https://www.hernehill.org.uk/event/christingle-carol-service-2/
LOCATION:St Paul’s Church\, Herne Hill\, SE24 9LY\, St. Pauls Church\, Herne Hill\, LONDON\, London\, SE24 9LY\, United Kingdom
CATEGORIES:Arts & Crafts,Children & Families,Choir,Choir,Christmas,Christmas,Church Service,Music
ATTACH;FMTTYPE=image/jpeg:https://www.hernehill.org.uk/wp-content/uploads/2025/12/Christingle-photo-Eden-scaled.jpeg
END:VEVENT
BEGIN:VEVENT
DTSTART;TZID=Europe/London:20251214T170000
DTEND;TZID=Europe/London:20251214T183000
DTSTAMP:20260420T065605
CREATED:20251206T054410Z
LAST-MODIFIED:20251206T054410Z
UID:3784-1765731600-1765737000@www.hernehill.org.uk
SUMMARY:Traditional Carol Service 5pm at St Paul's Herne Hill
DESCRIPTION:All welcome for an evening of Christmas Carol Singing followed by mulled wine and mince pies other festive food and drink. \nOur choir will lead us in our Carol Singing as we journey through the Christmas Story together. \nWe will also hear a short Christmas talk. \nAll singing abilities welcome! \nFull details of all our services are on our website www.hernehillparish.org.uk
URL:https://www.hernehill.org.uk/event/traditional-carol-service-5pm-at-st-pauls-herne-hill/
LOCATION:St Paul’s Church\, Herne Hill\, SE24 9LY\, St. Pauls Church\, Herne Hill\, LONDON\, London\, SE24 9LY\, United Kingdom
CATEGORIES:Choir,Christmas,Christmas,Church Service,Music
ATTACH;FMTTYPE=image/jpeg:https://www.hernehill.org.uk/wp-content/uploads/2025/12/candle-scaled.jpeg
END:VEVENT
BEGIN:VEVENT
DTSTART;TZID=Europe/London:20251214T150000
DTEND;TZID=Europe/London:20251214T163000
DTSTAMP:20260420T065605
CREATED:20251211T100049Z
LAST-MODIFIED:20251211T100049Z
UID:3797-1765724400-1765729800@www.hernehill.org.uk
SUMMARY:Messy Christmas
DESCRIPTION:Join us for Messy Christmas which is our Christmas Carol service for Messy Church. \nWe will start with arts and crafts before having a short service with carols and as a Christmas talk. \nWe also do Messy Church every Second Sunday of the month at 3pm at St Saviour’s so please do come any time! \n \n 
URL:https://www.hernehill.org.uk/event/messy-christmas/
LOCATION:St Saviour’s Church\, Herne Hill road\, London\, SE24 0AY\, St Saviour's Church\, London\, London\, SE24 0AY\, United Kingdom
CATEGORIES:Arts & Crafts,Children & Families,Christmas,Christmas,Church Service,Hobbies,Music
ATTACH;FMTTYPE=image/jpeg:https://www.hernehill.org.uk/wp-content/uploads/2025/12/IMG_0019.jpg
END:VEVENT
BEGIN:VEVENT
DTSTART;TZID=Europe/London:20251214T111500
DTEND;TZID=Europe/London:20251214T120000
DTSTAMP:20260420T065605
CREATED:20251210T160134Z
LAST-MODIFIED:20251210T160217Z
UID:3792-1765710900-1765713600@www.hernehill.org.uk
SUMMARY:St Paul's Church Nativity Service
DESCRIPTION:Join us to sing Christmas Carol’s and act out the Nativity Story dressed up as your favourite Nativity Character! \n(Dressing up optional!!) \nDetails of our other Christmas Services are below:
URL:https://www.hernehill.org.uk/event/st-pauls-church-nativity-service/
LOCATION:St Paul’s Church\, Herne Hill\, SE24 9LY\, St. Pauls Church\, Herne Hill\, LONDON\, London\, SE24 9LY\, United Kingdom
CATEGORIES:Choir,Choir,Christmas,Christmas,Church Service,Music
ATTACH;FMTTYPE=image/png:https://www.hernehill.org.uk/wp-content/uploads/2025/12/Joy_Star_BG_Berry_Red_Logo_RGB_Medium.png
END:VEVENT
BEGIN:VEVENT
DTSTART;TZID=Europe/London:20251214T093000
DTEND;TZID=Europe/London:20251214T103000
DTSTAMP:20260420T065605
CREATED:20251210T160443Z
LAST-MODIFIED:20251211T094338Z
UID:3795-1765704600-1765708200@www.hernehill.org.uk
SUMMARY:St Saviour's Church Nativity Service
DESCRIPTION:Join us to sing Christmas Carol’s and act out the Nativity Story dressed up as your favourite Nativity Character! \n(Dressing up optional!!) \nDetails of our other Christmas Services are below:
URL:https://www.hernehill.org.uk/event/st-saviours-church-nativity-service/
LOCATION:St Saviour’s Church\, Herne Hill road\, London\, SE24 0AY\, St Saviour's Church\, London\, London\, SE24 0AY\, United Kingdom
CATEGORIES:Choir,Christmas,Christmas,Church Service,Music
ATTACH;FMTTYPE=image/jpeg:https://www.hernehill.org.uk/wp-content/uploads/2024/12/421733-MrBenGoodyear-C6154ICA6-1066273-D1-x10-1.jpg
END:VEVENT
BEGIN:VEVENT
DTSTART;TZID=Europe/London:20251213T110000
DTEND;TZID=Europe/London:20251213T130000
DTSTAMP:20260420T065605
CREATED:20251115T091055Z
LAST-MODIFIED:20251115T091055Z
UID:3764-1765623600-1765630800@www.hernehill.org.uk
SUMMARY:Ready\, Set\, DRAMA: Once Upon a Christmas (ages 6 - 11 and their grown-ups)
DESCRIPTION:Designed for children aged 6 – 11 and their grown-ups. \nGet into the festive spirit in this fun and interactive drama workshop for children and their families. \nUsing the themes of Christmas as inspiration we’ll take part in energizing body warmups\, expressive dances and exciting games in a welcoming and inclusive environment. We will use props\, improvisation\, collaboration and our imaginations to learn acting techniques in a group setting. \nThe structure of the day is as follows:\nWelcome\nIcebreaker activities\nBody\, Face\, Voice Warm Ups\nImagination Warm Ups\nGroup improvisation \nThese workshops are designed for children aged 6-11 and their grown-ups. All under 18s must be accompanied by a ticket-holding adult throughout the workshop\, and we encourage everyone to take part together. Tickets are free and should be booked in advance from the following link: https://www.ticketsource.co.uk/larche-london/ready-set-drama-once-upon-a-christmas-ages-6-11-and-their-grown-ups/e-ermgar \nOur Ready\, Set Drama series is led by adults with learning disabilities and drama facilitators from L’Arche and SLT.\nWith thanks to the Beckenham Theatre Trust for their funding towards this venture. \nFacebook: @larchelondonuk\nInstagram: @Larchelondonuk\nL’Arche Day Activities: www.larche.org.uk/london-day-activities \nAbout L’Arche  Drama Group\nOur talented drama group of people with and without learning disabilities meet weekly and creates its productions\, scripts\, costumes and props from scratch.  They have brought their performances and workshops to theatres\, churches\, local community spaces and conferences across London and the UK. \nAbout South London Theatre – Youth Theatre\nSouth London Theatre – Youth Theatre has been part of the community for many years. Young people from 6 to 18 years old attend classes\, taught by drama experts\, where they develop drama skills\, build confidence\, have fun and take part in performances.
URL:https://www.hernehill.org.uk/event/ready-set-drama-once-upon-a-christmas-ages-6-11-and-their-grown-ups/
LOCATION:South London Theatre\, South London Theatre\, The Old Fire Station\, 2A Norwood High St\, London\, SE27 9NS\, United Kingdom
CATEGORIES:Children & Families,Christmas,Theatre
ATTACH;FMTTYPE=image/jpeg:https://www.hernehill.org.uk/wp-content/uploads/2025/11/RSD-2-consent-received-scaled.jpg
END:VEVENT
BEGIN:VEVENT
DTSTART;TZID=Europe/London:20251212T180000
DTEND;TZID=Europe/London:20251212T193000
DTSTAMP:20260420T065605
CREATED:20250925T101759Z
LAST-MODIFIED:20250925T102101Z
UID:3669-1765562400-1765567800@www.hernehill.org.uk
SUMMARY:The Elves and the Shoemaker
DESCRIPTION:The Elves and the Shoemaker – Festive theatre for all \nFriday 12 December\, 6pm\nTickets £16 Adults / £12 Children & Concessions / Free for under 4s\nBrixton Windmill Centre\, SW2 5DA \nBOOK VIA www.brixtonwindmill.org \nBOOK HERE \nFollowing recent popular outdoor theatre shows in Windmill Gardens\, Dot Collective and Open Bar Theatre combine forces and are back with a festive show inside Brixton Windmill Centre (no need to worry about winter weather!) \nWritten in 1806 by the Brother’s Grimm the tale was originally the first and longest story in a series of three fairy tales entitled The Elves. It follows a failing shoemaker at Christmas time\, who one morning awakes to discover a perfect pair of shoes\, already made\, sitting at his work table. Each morning the same mysterious occurrence takes place\, helping him make his fortune. A story of hard work rewarded\, the perfect treat for a frosty evening. \nCome one\, come all\, adults grab a glass of wine and a mince pie\, bring the family and join us to witness the magic of the Elves\, sing along and pull a cracker or two – you might even get a festive card or a chance to hold a puppet! \nSuitable for all everyone 4+ | dementia friendly | accessible sensory theatre\nRunning time: 50 mins \nPlease note we have limited space for buggies & pushchairs – you may need to leave outside. \n\n\n\nYour ticket purchase will support both Friends of Windmill Gardens and Dot Collective (a Dementia charity).
URL:https://www.hernehill.org.uk/event/the-elves-and-the-shoemaker/
LOCATION:Brixton Windmill\, 100 Blenheim Gardens\, London\, SW2 5DA\, United Kingdom
CATEGORIES:Christmas,Theatre
ORGANIZER;CN="Friends of Windmill Gardens":MAILTO:info@brixtonwindmill.org
END:VEVENT
BEGIN:VEVENT
DTSTART;TZID=Europe/London:20251207T170000
DTEND;TZID=Europe/London:20251207T180000
DTSTAMP:20260420T065605
CREATED:20251121T061257Z
LAST-MODIFIED:20251210T155605Z
UID:3769-1765126800-1765130400@www.hernehill.org.uk
SUMMARY:Christmas Carol Singing in Herne Hill
DESCRIPTION:Come and join us Carol Singing this December!\n\n\n\n\n\n\n\n\n\n\n\n\n\n\n\nAll are welcome to join us Carol Singing around Herne Hill over Advent and Christmas: \nDecember 7th 1pm Carol Singing by Herne Hill Station Piano. \nDecember 7th 5pm Immersive Nativity walking from St Paul’s to St Saviour’s via Herne Hill Station. \nDecember 18th 6.30pm walking from St Saviour’s to neighbouring streets and back. \nDecember 21st 5pm walking from St Paul’s to neighbouring streets and back. \nYou are also welcome at any of our Christmas services: \nIf you would like to sing in the choir at our Carol service or any other service please do email noël@hernehillparish.org.uk for details of rehearsals.
URL:https://www.hernehill.org.uk/event/christmas-carol-singing-in-herne-hill/
LOCATION:St Paul’s Church\, Herne Hill\, SE24 9LY\, St. Pauls Church\, Herne Hill\, LONDON\, London\, SE24 9LY\, United Kingdom
CATEGORIES:Choir,Christmas,Church Service
ATTACH;FMTTYPE=image/png:https://www.hernehill.org.uk/wp-content/uploads/2025/11/Nativity-Poster-v5.png
END:VEVENT
BEGIN:VEVENT
DTSTART;TZID=Europe/London:20251207T123000
DTEND;TZID=Europe/London:20251207T153000
DTSTAMP:20260420T065605
CREATED:20251009T092034Z
LAST-MODIFIED:20251009T092034Z
UID:3688-1765110600-1765121400@www.hernehill.org.uk
SUMMARY:Wreath Workshops
DESCRIPTION:Make a festive wreath using natural materials at Brixton Windmill. The workshops take place during our Winter Fair and Santa’s Grotto event with choirs\, food\, stalls etc. \n12.30pm and 2pm \n£15 \nSuitable for everyone 14+ \nBook Here
URL:https://www.hernehill.org.uk/event/wreath-workshops/
LOCATION:Brixton Windmill\, 100 Blenheim Gardens\, London\, SW2 5DA\, United Kingdom
CATEGORIES:Christmas
ATTACH;FMTTYPE=image/jpeg:https://www.hernehill.org.uk/wp-content/uploads/2025/10/2025-FESTIVE-WREATH-INSTA.jpg
ORGANIZER;CN="Friends of Windmill Gardens":MAILTO:info@brixtonwindmill.org
END:VEVENT
BEGIN:VEVENT
DTSTART;TZID=Europe/London:20241225T103000
DTEND;TZID=Europe/London:20241225T120000
DTSTAMP:20260420T065605
CREATED:20241211T124902Z
LAST-MODIFIED:20241211T125907Z
UID:3276-1735122600-1735128000@www.hernehill.org.uk
SUMMARY:Christmas Day Communion Service
DESCRIPTION:All welcome to celebrate Christmas Day at St Paul’s Herne Hill to sing Carols\, reflect on the Christmas story and share Holy Communion together.
URL:https://www.hernehill.org.uk/event/christmas-day-communion-service/
LOCATION:St Paul’s Church\, Herne Hill\, SE24 9LY\, St. Pauls Church\, Herne Hill\, LONDON\, London\, SE24 9LY\, United Kingdom
CATEGORIES:Choir,Choir,Christmas,Christmas,Church Service,Music
ATTACH;FMTTYPE=image/jpeg:https://www.hernehill.org.uk/wp-content/uploads/2022/12/Nativity-image.jpg
END:VEVENT
BEGIN:VEVENT
DTSTART;TZID=Europe/London:20241224T233000
DTEND;TZID=Europe/London:20241225T003000
DTSTAMP:20260420T065605
CREATED:20241211T130023Z
LAST-MODIFIED:20241211T130126Z
UID:3279-1735083000-1735086600@www.hernehill.org.uk
SUMMARY:Christmas Eve Midnight Communion Service
DESCRIPTION:All welcome to us Christmas Eve at St Saviour’s for Carols\, Communion and celebration!
URL:https://www.hernehill.org.uk/event/christmas-eve-midnight-communion-service/
LOCATION:London
CATEGORIES:Christmas,Christmas,Church Service,Music
ATTACH;FMTTYPE=image/jpeg:https://www.hernehill.org.uk/wp-content/uploads/2024/12/St-Saviours-Christmas.jpg
END:VEVENT
BEGIN:VEVENT
DTSTART;TZID=Europe/London:20241224T160000
DTEND;TZID=Europe/London:20241224T170000
DTSTAMP:20260420T065605
CREATED:20241211T110132Z
LAST-MODIFIED:20241211T110302Z
UID:3274-1735056000-1735059600@www.hernehill.org.uk
SUMMARY:Christingle Carol Service
DESCRIPTION:All welcome to join us for an evening of Carol Singing and Christingle Making at St Paul’s Church. \nThere will also be a range of Christmas services on our YouTube channel if you would prefer to join from home: https://www.youtube.com/channel/UCacBXmpZ2_eCq3hI9uX8sJQ
URL:https://www.hernehill.org.uk/event/christingle-carol-service/
LOCATION:St Paul’s Church\, Herne Hill\, SE24 9LY\, St. Pauls Church\, Herne Hill\, LONDON\, London\, SE24 9LY\, United Kingdom
CATEGORIES:Children & Families,Choir,Choir,Christmas,Christmas,Church Service,Music
ATTACH;FMTTYPE=image/jpeg:https://www.hernehill.org.uk/wp-content/uploads/2022/12/Christingle3-scaled.jpg
END:VEVENT
BEGIN:VEVENT
DTSTART;TZID=Europe/London:20241215T170000
DTEND;TZID=Europe/London:20241215T183000
DTSTAMP:20260420T065605
CREATED:20241201T205741Z
LAST-MODIFIED:20241201T205741Z
UID:3252-1734282000-1734287400@www.hernehill.org.uk
SUMMARY:St Paul's Traditional Carol Service
DESCRIPTION:All welcome for an evening of Christmas Carol Singing followed by mulled wine and mince pies other festive food and drink. \nOur choir will lead us in our Carol Singing as we journey through the Christmas Story together. \nWe will also hear a short Christmas talk. \nAll singing abilities welcome! \nFull details of all our services are on our website www.hernehillparish.org.uk
URL:https://www.hernehill.org.uk/event/st-pauls-traditional-carol-service-2/
LOCATION:St Paul’s Church\, Herne Hill\, SE24 9LY\, St. Pauls Church\, Herne Hill\, LONDON\, London\, SE24 9LY\, United Kingdom
CATEGORIES:Choir,Christmas,Church Service
ATTACH;FMTTYPE=image/jpeg:https://www.hernehill.org.uk/wp-content/uploads/2024/12/Parish-Christmas-Flyer-2024.jpg
END:VEVENT
BEGIN:VEVENT
DTSTART;TZID=Europe/London:20241215T111500
DTEND;TZID=Europe/London:20241215T121500
DTSTAMP:20260420T065605
CREATED:20241203T173606Z
LAST-MODIFIED:20241203T173606Z
UID:3259-1734261300-1734264900@www.hernehill.org.uk
SUMMARY:St Paul's Nativity Service
DESCRIPTION:Join us to sing Christmas Carol’s and act out the Nativity Story dressed up as your favourite Nativity Character! \n(Dressing up optional!!)
URL:https://www.hernehill.org.uk/event/st-pauls-nativity-service-2/
LOCATION:St Paul’s Church\, Herne Hill\, SE24 9LY\, St. Pauls Church\, Herne Hill\, LONDON\, London\, SE24 9LY\, United Kingdom
CATEGORIES:Children & Families,Choir,Christmas,Church Service
ATTACH;FMTTYPE=image/jpeg:https://www.hernehill.org.uk/wp-content/uploads/2023/12/Follow-the-star-square.jpg
END:VEVENT
BEGIN:VEVENT
DTSTART;TZID=Europe/London:20241215T093000
DTEND;TZID=Europe/London:20241215T103000
DTSTAMP:20260420T065605
CREATED:20241203T173348Z
LAST-MODIFIED:20241203T173348Z
UID:3256-1734255000-1734258600@www.hernehill.org.uk
SUMMARY:St Saviour's Nativity Service
DESCRIPTION:Join us to sing Christmas Carol’s and act out the Nativity Story dressed up as your favourite Nativity Character! \n(Dressing up optional!!)
URL:https://www.hernehill.org.uk/event/st-saviours-nativity-service-2/
LOCATION:St Saviour’s Church\, Herne Hill road\, London\, SE24 0AY\, St Saviour's Church\, London\, London\, SE24 0AY\, United Kingdom
CATEGORIES:Children & Families,Choir,Christmas,Church Service
ATTACH;FMTTYPE=image/jpeg:https://www.hernehill.org.uk/wp-content/uploads/2024/12/421733-MrBenGoodyear-C6154ICA6-1066273-D1-x10-1.jpg
END:VEVENT
BEGIN:VEVENT
DTSTART;TZID=Europe/London:20241214T110000
DTEND;TZID=Europe/London:20241215T140000
DTSTAMP:20260420T065605
CREATED:20241204T123325Z
LAST-MODIFIED:20241204T123325Z
UID:3262-1734174000-1734271200@www.hernehill.org.uk
SUMMARY:Festive Family Event at Brockwell Park Community Greenhouses
DESCRIPTION:Visit Brockwell Park Community Greenhouses this Christmas to get in the festive mood! \nSaturday 14th & Sunday 15th December\, 11am – 2pm \nOnce again our Festive Family Event will provide a chance to celebrate Christmas without all the hustle and bustle.  Enjoy a stroll around the garden\, take part in nature-based crafts and activities\, visit Santa in our orchard grotto and enjoy a little panto. \n\nFestive garden trail | free for all\nChristmas crafts for children | a free\, drop-in activity\nFood and drinks | served 11:30am-1:30pm\nSanta’s Orchard Grotto | Sold out\nClari the Christmas Fairy panto | Booking required\, Book here\n\nNo ticket is required for entrance to the gardens\, for the trail and for the craft activities.  Just drop by and join in the fun! \nFind out more here
URL:https://www.hernehill.org.uk/event/festive-family-event-at-brockwell-park-community-greenhouses/
LOCATION:Brockwell Park Community Greenhouses\, Brockwell Park\, Herne Hill\, London\, SE24 OPA\, United Kingdom
CATEGORIES:Children & Families,Christmas
ATTACH;FMTTYPE=image/jpeg:https://www.hernehill.org.uk/wp-content/uploads/2024/12/Family-Festive-Event-1-1024x576-1.jpg
END:VEVENT
BEGIN:VEVENT
DTSTART;TZID=Europe/London:20241208T170000
DTEND;TZID=Europe/London:20241208T180000
DTSTAMP:20260420T065605
CREATED:20241124T154730Z
LAST-MODIFIED:20241124T154730Z
UID:3243-1733677200-1733680800@www.hernehill.org.uk
SUMMARY:Immersive Nativity
DESCRIPTION:Come Christmas Carolling around #HerneHill on the 8th December and immerse yourself in the nativity story as it is acted out along the way. Starts at St Paul’s @hernehillparish at 5pm and finishing at St Saviour’s. All welcome! Visit hernehillparish.org.uk for other Christmas Carol events.
URL:https://www.hernehill.org.uk/event/immersive-nativity/
LOCATION:St Paul’s Church\, Herne Hill\, SE24 9LY\, St. Pauls Church\, Herne Hill\, LONDON\, London\, SE24 9LY\, United Kingdom
CATEGORIES:Children & Families,Choir,Choir,Christmas,Christmas,Church Service,Music
ATTACH;FMTTYPE=image/jpeg:https://www.hernehill.org.uk/wp-content/uploads/2024/11/Immersive-Nativity-2024.jpg
END:VEVENT
BEGIN:VEVENT
DTSTART;TZID=Europe/London:20241208T120000
DTEND;TZID=Europe/London:20241208T153000
DTSTAMP:20260420T065605
CREATED:20241107T093158Z
LAST-MODIFIED:20241107T093223Z
UID:3199-1733659200-1733671800@www.hernehill.org.uk
SUMMARY:Winter Market and Santa's Grotto
DESCRIPTION:Brixton Windmill Winter Market\nSunday 8 December\, 12noon to 3.30pm\nWindmill Gardens SW2 5DA\nwww.brixtonwindmill.org \nBuy gifts from local makers\, visit Father Christmas and enjoy a festive atmosphere with Christmas choirs and music. We have hot food available from En Root and Deuce. Bread Bread will be selling delicious baked goods and our cafe will serve warming mulled wine\, hot drinks and snacks. Our shop will be open for purchase of windmill related gifts – something unique for family and friends! \nThere will be free arts and crafts activities for children in the Green Hut throughout the afternoon as well as a Christmas wreath making workshop (bookable in advance) for adults. \nSanta’s Grotto\nWe are very excited to announce that Santa will return to the Windmill grotto this year from 1-3pm to greet children with a small gift and allow families to capture a festive photo. We suggest a donation of £5 per child. Get your time slot ticket at our welcome desk as you come into the park.
URL:https://www.hernehill.org.uk/event/winter-market-santas-grotto/
LOCATION:Brixton Windmill\, 100 Blenheim Gardens\, London\, SW2 5DA\, United Kingdom
CATEGORIES:Children & Families,Christmas
ATTACH;FMTTYPE=image/png:https://www.hernehill.org.uk/wp-content/uploads/2024/11/2024-WM-SG-POSTER-INSTA.png
ORGANIZER;CN="Friends of Windmill Gardens":MAILTO:info@brixtonwindmill.org
END:VEVENT
BEGIN:VEVENT
DTSTART;TZID=Europe/London:20231225T103000
DTEND;TZID=Europe/London:20231225T113000
DTSTAMP:20260420T065605
CREATED:20221222T095119Z
LAST-MODIFIED:20231205T151124Z
UID:1972-1703500200-1703503800@www.hernehill.org.uk
SUMMARY:Christmas Day Carols and Communion at St Paul's
DESCRIPTION:All welcome to join us 10.30am Christmas Day at St Paul’s for Carols\, Communion and celebration! \nThere will also be a Christmas service on our YouTube channel if you would prefer to join from home: https://www.youtube.com/channel/UCacBXmpZ2_eCq3hI9uX8sJQ \nVisit www.hernehillparish.org.uk for details of  our other services
URL:https://www.hernehill.org.uk/event/christmas-day-carols-and-communion-at-st-pauls/
LOCATION:St Paul’s Church\, Herne Hill\, SE24 9LY\, St. Pauls Church\, Herne Hill\, LONDON\, London\, SE24 9LY\, United Kingdom
CATEGORIES:Children & Families,Choir,Choir,Christmas,Christmas,Music
ATTACH;FMTTYPE=image/jpeg:https://www.hernehill.org.uk/wp-content/uploads/2022/12/Nativity-image.jpg
END:VEVENT
BEGIN:VEVENT
DTSTART;TZID=Europe/London:20231217T170000
DTEND;TZID=Europe/London:20231217T180000
DTSTAMP:20260420T065605
CREATED:20231205T145124Z
LAST-MODIFIED:20231205T145746Z
UID:2386-1702832400-1702836000@www.hernehill.org.uk
SUMMARY:St Paul's Traditional Carol Service
DESCRIPTION:All welcome for an evening of Christmas Carol Singing followed by mulled wine and mince pies other festive food and drink. \nOur choir will lead us in our Carol Singing as we journey through the Christmas Story together. \nWe will also hear a short Christmas talk. \nAll singing abilitiies welcome! \nIf you can’t make it we also have an alternative carol service on Sunday 10th December 5pm at St Paul’s or feel free to join any of our services on Christmas Eve or Christmas Day. Full details of all our services are on our website www.hernehillparish.org.uk
URL:https://www.hernehill.org.uk/event/st-pauls-traditional-carol-service/
LOCATION:St Paul’s Church\, Herne Hill\, SE24 9LY\, St. Pauls Church\, Herne Hill\, LONDON\, London\, SE24 9LY\, United Kingdom
CATEGORIES:Choir,Choir,Christmas,Christmas,Music
ATTACH;FMTTYPE=image/jpeg:https://www.hernehill.org.uk/wp-content/uploads/2023/12/Follow-the-star-square.jpg
END:VEVENT
BEGIN:VEVENT
DTSTART;TZID=Europe/London:20231210T170000
DTEND;TZID=Europe/London:20231210T180000
DTSTAMP:20260420T065605
CREATED:20231205T144523Z
LAST-MODIFIED:20231205T150647Z
UID:2380-1702227600-1702231200@www.hernehill.org.uk
SUMMARY:Alternative Carol Service
DESCRIPTION:All welcome for an evening of Christmas Carol Singing followed by mulled wine and mince pies other festive food and drink. \nOur band will lead us in our Carol Singing as we journey through the Christmas Story together. \nWe will also hear a short Christmas talk. \nAll singing abilities welcome! \nIf you prefer a traditional carol service we will be having one of them the following Sunday 17th December 5pm at St Paul’s. Full details of all our services are on our website www.hernehillparish.org.uk
URL:https://www.hernehill.org.uk/event/alternative-carol-service/
LOCATION:London
CATEGORIES:Choir,Choir,Christmas,Christmas,Music
ATTACH;FMTTYPE=image/png:https://www.hernehill.org.uk/wp-content/uploads/2023/12/Christmas-banner-2023.png
END:VEVENT
BEGIN:VEVENT
DTSTART;TZID=Europe/London:20231210T111500
DTEND;TZID=Europe/London:20231210T121500
DTSTAMP:20260420T065605
CREATED:20231205T141907Z
LAST-MODIFIED:20231205T144614Z
UID:2378-1702206900-1702210500@www.hernehill.org.uk
SUMMARY:St Paul's Nativity Service
DESCRIPTION:All welcome to join us to sing Christmas Carol’s and act out the Nativity Story dressed up as your favourite Nativity Character! \nPlease visit www.hernehillparish.org.uk for details of other services this month.
URL:https://www.hernehill.org.uk/event/st-pauls-nativity-service/
LOCATION:St Paul’s Church\, Herne Hill\, SE24 9LY\, St. Pauls Church\, Herne Hill\, LONDON\, London\, SE24 9LY\, United Kingdom
CATEGORIES:Children & Families,Choir,Choir,Christmas,Christmas,Music
ATTACH;FMTTYPE=image/jpeg:https://www.hernehill.org.uk/wp-content/uploads/2022/12/Nativity-image.jpg
END:VEVENT
BEGIN:VEVENT
DTSTART;TZID=Europe/London:20231210T093000
DTEND;TZID=Europe/London:20231210T103000
DTSTAMP:20260420T065605
CREATED:20231205T141523Z
LAST-MODIFIED:20231205T144652Z
UID:2372-1702200600-1702204200@www.hernehill.org.uk
SUMMARY:St Saviour's Nativity Service
DESCRIPTION:All welcome to join us to sing Christmas Carol’s and act out the Nativity Story dressed up as your favourite Nativity Character! \nPlease visit www.hernehillparish.org.uk for details of other services this month.
URL:https://www.hernehill.org.uk/event/st-saviours-nativity-service/
LOCATION:St Saviour’s Church\, Herne Hill road\, London\, SE24 0AY\, St Saviour's Church\, London\, London\, SE24 0AY\, United Kingdom
CATEGORIES:Children & Families,Choir,Choir,Christmas,Christmas,Music
ATTACH;FMTTYPE=image/png:https://www.hernehill.org.uk/wp-content/uploads/2023/12/Christmas-banner-2023.png
END:VEVENT
END:VCALENDAR