





BEGIN:VCALENDAR
VERSION:2.0
PRODID:-//Herne Hill Community SE24 - ECPv6.11.2.1//NONSGML v1.0//EN
CALSCALE:GREGORIAN
METHOD:PUBLISH
X-WR-CALNAME:Herne Hill Community SE24
X-ORIGINAL-URL:https://www.hernehill.org.uk
X-WR-CALDESC:Events for Herne Hill Community SE24
REFRESH-INTERVAL;VALUE=DURATION:PT1H
X-Robots-Tag:noindex
X-PUBLISHED-TTL:PT1H
BEGIN:VTIMEZONE
TZID:Europe/London
BEGIN:DAYLIGHT
TZOFFSETFROM:+0000
TZOFFSETTO:+0100
TZNAME:BST
DTSTART:20260329T010000
END:DAYLIGHT
BEGIN:STANDARD
TZOFFSETFROM:+0100
TZOFFSETTO:+0000
TZNAME:GMT
DTSTART:20261025T010000
END:STANDARD
END:VTIMEZONE
BEGIN:VEVENT
DTSTART;TZID=Europe/London:20260311T123000
DTEND;TZID=Europe/London:20260311T133000
DTSTAMP:20260420T081208
CREATED:20260217T145000Z
LAST-MODIFIED:20260217T145000Z
UID:3892-1773232200-1773235800@www.hernehill.org.uk
SUMMARY:Windmill Voices Community Choir
DESCRIPTION:New free community choir at Brixton Windmill Centre on Wednesdays 12.30pm to 1.30pm from 11 March. Welcoming singing group – free refreshments and improved happiness guaranteed! Led by local soprano Isolde Roxby. Funded by Thinc Fund. \nwww.brixtonwindmill.org \n 
URL:https://www.hernehill.org.uk/event/windmill-voices-community-choir/
LOCATION:Brixton Windmill\, 100 Blenheim Gardens\, London\, SW2 5DA\, United Kingdom
CATEGORIES:Choir
ATTACH;FMTTYPE=image/jpeg:https://www.hernehill.org.uk/wp-content/uploads/2026/02/2026-IWINDMILL-VOICES-IG-.jpg
ORGANIZER;CN="Friends of Windmill Gardens":MAILTO:info@brixtonwindmill.org
END:VEVENT
END:VCALENDAR